BEGIN:VCALENDAR
VERSION:2.0
PRODID:-//wp-events-plugin.com//7.2.3.1//EN
TZID:Europe/Paris
X-WR-TIMEZONE:Europe/Paris
BEGIN:VEVENT
UID:56@grand-couronne.fr
DTSTART;TZID=Europe/Paris:20260429T150000
DTEND;TZID=Europe/Paris:20260429T150000
DTSTAMP:20260413T150210Z
URL:https://grand-couronne.fr/evenements/repas-partage/
SUMMARY:Repas partagé
DESCRIPTION:Rejoignez l’association semis-urbain le mercredi 29 avril à 
 15h pour préparer un repas qui sera dégusté et partagé avec d’autres
  habitants à partir de 18h au local des Bouttières !\n\nGratuit\nTout pu
 blic\n\n&nbsp\;
ATTACH;FMTTYPE=image/jpeg:https://grand-couronne.fr/wp-content/uploads/202
 6/04/2149117542.jpg
END:VEVENT
BEGIN:VTIMEZONE
TZID:Europe/Paris
X-LIC-LOCATION:Europe/Paris
BEGIN:DAYLIGHT
DTSTART:20260329T030000
TZOFFSETFROM:+0100
TZOFFSETTO:+0200
TZNAME:CEST
END:DAYLIGHT
END:VTIMEZONE
END:VCALENDAR