BEGIN:VCALENDAR
VERSION:2.0
PRODID:-//wp-events-plugin.com//7.2.3.1//EN
TZID:Europe/Paris
X-WR-TIMEZONE:Europe/Paris
BEGIN:VEVENT
UID:58@grand-couronne.fr
DTSTART;TZID=Europe/Paris:20260424T170000
DTEND;TZID=Europe/Paris:20260424T210000
DTSTAMP:20260416T133430Z
URL:https://grand-couronne.fr/evenements/rendez-vous-futsal-5/
SUMMARY:Rendez-vous Futsal
DESCRIPTION:Vendredi 24 avril\, chaussez vos baskets et rejoignez l’équ
 ipe de médiation sociale pour vous défouler et taper dans un ballon au 
 Cosec Léo Lagrange de 17h à 21h !
ATTACH;FMTTYPE=image/jpeg:https://grand-couronne.fr/wp-content/uploads/202
 6/04/futsal.jpg
END:VEVENT
BEGIN:VTIMEZONE
TZID:Europe/Paris
X-LIC-LOCATION:Europe/Paris
BEGIN:DAYLIGHT
DTSTART:20260329T030000
TZOFFSETFROM:+0100
TZOFFSETTO:+0200
TZNAME:CEST
END:DAYLIGHT
END:VTIMEZONE
END:VCALENDAR