BEGIN:VCALENDAR
VERSION:2.0
PRODID:-//wp-events-plugin.com//7.2.3.1//EN
TZID:Europe/Paris
X-WR-TIMEZONE:Europe/Paris
BEGIN:VEVENT
UID:57@grand-couronne.fr
DTSTART;TZID=Europe/Paris:20260414T100000
DTEND;TZID=Europe/Paris:20260530T180000
DTSTAMP:20260416T135537Z
URL:https://grand-couronne.fr/evenements/exposition-naitre-fille/
SUMMARY:Exposition "Naître fille"
DESCRIPTION:Du 14 avril au 30 mai\, venez découvrir à la bibliothèque Bo
 ris Vian l’exposition tirée du livre de l’illustratrice Alice Dussuto
 ur\, qui aborde les injustices et violences du quotidien\, mais aussi l’
 espoir et la mobilisation des personnes entourent cinq jeunes filles à tr
 avers le monde.
ATTACH;FMTTYPE=image/jpeg:https://grand-couronne.fr/wp-content/uploads/202
 6/04/actu-expo-naitre-fille-editions-du-ricochet-2-1-scaled.png
END:VEVENT
BEGIN:VTIMEZONE
TZID:Europe/Paris
X-LIC-LOCATION:Europe/Paris
BEGIN:DAYLIGHT
DTSTART:20260329T030000
TZOFFSETFROM:+0100
TZOFFSETTO:+0200
TZNAME:CEST
END:DAYLIGHT
END:VTIMEZONE
END:VCALENDAR