BEGIN:VCALENDAR
VERSION:2.0
PRODID:-//wp-events-plugin.com//7.2.3.1//EN
TZID:Europe/Paris
X-WR-TIMEZONE:Europe/Paris
BEGIN:VEVENT
UID:59@grand-couronne.fr
DTSTART;TZID=Europe/Paris:20260422T130000
DTEND;TZID=Europe/Paris:20260429T153000
DTSTAMP:20260416T135311Z
URL:https://grand-couronne.fr/evenements/atelier-arts-de-la-scene/
SUMMARY:Atelier Arts de la scène
DESCRIPTION:Le monde du spectacle vous intéresse ? Alors n’hésitez pas
  à pousser les portes de l’atelier Arts de la scène le mercredi 22 avr
 il\, de 14h à 15h30\, au local des Bouttières et 29 avril\, de 13h30 à 
 15h\, au local Diderot pour découvrir le doublage\, le théâtre\, le cha
 nt\, le conte et bien d’autres techniques encore avec l’école de cha
 nt et de comédie musicale de Seine-Maritime !\n\nGratuit | Tout public
ATTACH;FMTTYPE=image/jpeg:https://grand-couronne.fr/wp-content/uploads/202
 6/04/2147891571.jpg
END:VEVENT
BEGIN:VTIMEZONE
TZID:Europe/Paris
X-LIC-LOCATION:Europe/Paris
BEGIN:DAYLIGHT
DTSTART:20260329T030000
TZOFFSETFROM:+0100
TZOFFSETTO:+0200
TZNAME:CEST
END:DAYLIGHT
END:VTIMEZONE
END:VCALENDAR